Workbook

Sheet Besoins
A1: Besoins par créneau
A2: Pour chaque jour et chaque créneau, le nombre de bénévoles qu'il faut à chaque poste. Les colonnes Affectés et Manque se calculent seules à partir de l'onglet Bénévoles : rouge s'il manque du monde, vert si le poste est complet.
A4: Total | D4: =SUM(D7:D200) | E4: =SUM(E7:E200) | F4: =SUM(F7:F200)
A6: Jour | B6: Créneau | C6: Poste | D6: Besoin | E6: Affectés | F6: Manque
A7: Vendredi | B7: 14 h – 19 h | C7: Montage | D7: 6 | E7: =IF(C7="","",COUNTIFS('Bénévoles'!$C$7:$C$1000,A7,'Bénévoles'!$D$7:$D$1000,B7,'Bénévoles'!$E$7:$E$1000,C7)) | F7: =IF(C7="","",MAX(0,D7-E7))
A8: Samedi | B8: 10 h – 14 h | C8: Accueil et billetterie | D8: 2 | E8: =IF(C8="","",COUNTIFS('Bénévoles'!$C$7:$C$1000,A8,'Bénévoles'!$D$7:$D$1000,B8,'Bénévoles'!$E$7:$E$1000,C8)) | F8: =IF(C8="","",MAX(0,D8-E8))
A9: Samedi | B9: 10 h – 14 h | C9: Bar | D9: 2 | E9: =IF(C9="","",COUNTIFS('Bénévoles'!$C$7:$C$1000,A9,'Bénévoles'!$D$7:$D$1000,B9,'Bénévoles'!$E$7:$E$1000,C9)) | F9: =IF(C9="","",MAX(0,D9-E9))
A10: Samedi | B10: 10 h – 14 h | C10: Parking | D10: 2 | E10: =IF(C10="","",COUNTIFS('Bénévoles'!$C$7:$C$1000,A10,'Bénévoles'!$D$7:$D$1000,B10,'Bénévoles'!$E$7:$E$1000,C10)) | F10: =IF(C10="","",MAX(0,D10-E10))
A11: Samedi | B11: 14 h – 18 h | C11: Accueil et billetterie | D11: 3 | E11: =IF(C11="","",COUNTIFS('Bénévoles'!$C$7:$C$1000,A11,'Bénévoles'!$D$7:$D$1000,B11,'Bénévoles'!$E$7:$E$1000,C11)) | F11: =IF(C11="","",MAX(0,D11-E11))
A12: Samedi | B12: 14 h – 18 h | C12: Bar | D12: 3 | E12: =IF(C12="","",COUNTIFS('Bénévoles'!$C$7:$C$1000,A12,'Bénévoles'!$D$7:$D$1000,B12,'Bénévoles'!$E$7:$E$1000,C12)) | F12: =IF(C12="","",MAX(0,D12-E12))
A13: Samedi | B13: 14 h – 18 h | C13: Restauration | D13: 2 | E13: =IF(C13="","",COUNTIFS('Bénévoles'!$C$7:$C$1000,A13,'Bénévoles'!$D$7:$D$1000,B13,'Bénévoles'!$E$7:$E$1000,C13)) | F13: =IF(C13="","",MAX(0,D13-E13))
A14: Samedi | B14: 14 h – 18 h | C14: Propreté et tri | D14: 1 | E14: =IF(C14="","",COUNTIFS('Bénévoles'!$C$7:$C$1000,A14,'Bénévoles'!$D$7:$D$1000,B14,'Bénévoles'!$E$7:$E$1000,C14)) | F14: =IF(C14="","",MAX(0,D14-E14))
A15: Samedi | B15: 18 h – 23 h | C15: Accueil et billetterie | D15: 2 | E15: =IF(C15="","",COUNTIFS('Bénévoles'!$C$7:$C$1000,A15,'Bénévoles'!$D$7:$D$1000,B15,'Bénévoles'!$E$7:$E$1000,C15)) | F15: =IF(C15="","",MAX(0,D15-E15))
A16: Samedi | B16: 18 h – 23 h | C16: Bar | D16: 4 | E16: =IF(C16="","",COUNTIFS('Bénévoles'!$C$7:$C$1000,A16,'Bénévoles'!$D$7:$D$1000,B16,'Bénévoles'!$E$7:$E$1000,C16)) | F16: =IF(C16="","",MAX(0,D16-E16))
A17: Samedi | B17: 18 h – 23 h | C17: Restauration | D17: 3 | E17: =IF(C17="","",COUNTIFS('Bénévoles'!$C$7:$C$1000,A17,'Bénévoles'!$D$7:$D$1000,B17,'Bénévoles'!$E$7:$E$1000,C17)) | F17: =IF(C17="","",MAX(0,D17-E17))
A18: Samedi | B18: 18 h – 23 h | C18: Accueil des artistes | D18: 2 | E18: =IF(C18="","",COUNTIFS('Bénévoles'!$C$7:$C$1000,A18,'Bénévoles'!$D$7:$D$1000,B18,'Bénévoles'!$E$7:$E$1000,C18)) | F18: =IF(C18="","",MAX(0,D18-E18))
... A20: Dimanche | B20: 9 h – 13 h | C20: Démontage | D20: 8 | E20: =IF(C20="","",COUNTIFS('Bénévoles'!$C$7:$C$1000,A20,'Bénévoles'!$D$7:$D$1000,B20,'Bénévoles'!$E$7:$E$1000,C20)) | F20: =IF(C20="","",MAX(0,D20-E20))
E21: =IF(C21="","",COUNTIFS('Bénévoles'!$C$7:$C$1000,A21,'Bénévoles'!$D$7:$D$1000,B21,'Bénévoles'!$E$7:$E$1000,C21)) | F21: =IF(C21="","",MAX(0,D21-E21))
E22: =IF(C22="","",COUNTIFS('Bénévoles'!$C$7:$C$1000,A22,'Bénévoles'!$D$7:$D$1000,B22,'Bénévoles'!$E$7:$E$1000,C22)) | F22: =IF(C22="","",MAX(0,D22-E22))
E23: =IF(C23="","",COUNTIFS('Bénévoles'!$C$7:$C$1000,A23,'Bénévoles'!$D$7:$D$1000,B23,'Bénévoles'!$E$7:$E$1000,C23)) | F23: =IF(C23="","",MAX(0,D23-E23))
E24: =IF(C24="","",COUNTIFS('Bénévoles'!$C$7:$C$1000,A24,'Bénévoles'!$D$7:$D$1000,B24,'Bénévoles'!$E$7:$E$1000,C24)) | F24: =IF(C24="","",MAX(0,D24-E24))
E25: =IF(C25="","",COUNTIFS('Bénévoles'!$C$7:$C$1000,A25,'Bénévoles'!$D$7:$D$1000,B25,'Bénévoles'!$E$7:$E$1000,C25)) | F25: =IF(C25="","",MAX(0,D25-E25))
E26: =IF(C26="","",COUNTIFS('Bénévoles'!$C$7:$C$1000,A26,'Bénévoles'!$D$7:$D$1000,B26,'Bénévoles'!$E$7:$E$1000,C26)) | F26: =IF(C26="","",MAX(0,D26-E26))
E27: =IF(C27="","",COUNTIFS('Bénévoles'!$C$7:$C$1000,A27,'Bénévoles'!$D$7:$D$1000,B27,'Bénévoles'!$E$7:$E$1000,C27)) | F27: =IF(C27="","",MAX(0,D27-E27))
E28: =IF(C28="","",COUNTIFS('Bénévoles'!$C$7:$C$1000,A28,'Bénévoles'!$D$7:$D$1000,B28,'Bénévoles'!$E$7:$E$1000,C28)) | F28: =IF(C28="","",MAX(0,D28-E28))
E29: =IF(C29="","",COUNTIFS('Bénévoles'!$C$7:$C$1000,A29,'Bénévoles'!$D$7:$D$1000,B29,'Bénévoles'!$E$7:$E$1000,C29)) | F29: =IF(C29="","",MAX(0,D29-E29))
E30: =IF(C30="","",COUNTIFS('Bénévoles'!$C$7:$C$1000,A30,'Bénévoles'!$D$7:$D$1000,B30,'Bénévoles'!$E$7:$E$1000,C30)) | F30: =IF(C30="","",MAX(0,D30-E30))
E31: =IF(C31="","",COUNTIFS('Bénévoles'!$C$7:$C$1000,A31,'Bénévoles'!$D$7:$D$1000,B31,'Bénévoles'!$E$7:$E$1000,C31)) | F31: =IF(C31="","",MAX(0,D31-E31))
E32: =IF(C32="","",COUNTIFS('Bénévoles'!$C$7:$C$1000,A32,'Bénévoles'!$D$7:$D$1000,B32,'Bénévoles'!$E$7:$E$1000,C32)) | F32: =IF(C32="","",MAX(0,D32-E32))
... E200: =IF(C200="","",COUNTIFS('Bénévoles'!$C$7:$C$1000,A200,'Bénévoles'!$D$7:$D$1000,B200,'Bénévoles'!$E$7:$E$1000,C200)) | F200: =IF(C200="","",MAX(0,D200-E200))

Sheet Bénévoles
A1: Bénévoles et affectations
A2: Une ligne par bénévole et par créneau. Écrivez le jour et le créneau exactement comme dans l'onglet Besoins (copier-coller), sinon la ligne passe en orange. Un bénévole inscrit deux fois sur le même créneau passe en rouge.
A6: Nom | B6: Téléphone | C6: Jour | D6: Créneau | E6: Poste | F6: Remarques
A7: Camille (exemple) | C7: Samedi | D7: 10 h – 14 h | E7: Bar
A8: Yanis (exemple) | C8: Samedi | D8: 10 h – 14 h | E8: Bar
A9: Martine (exemple) | C9: Samedi | D9: 14 h – 18 h | E9: Accueil et billetterie

Sheet Postes
A1: Postes
A2: Un poste = une mission, un lieu, un responsable. Les postes de cette liste apparaissent dans les menus des onglets Besoins et Bénévoles.
A4: Poste | B4: Lieu (sur le plan) | C4: Responsable | D4: Téléphone | E4: Consignes
A5: Accueil et billetterie | B5: Entrée principale | E5: Vérifier les billets, orienter le public, répondre aux questions
A6: Bar | B6: Buvette | E6: Pas d'alcool aux mineurs ; compter la caisse à chaque relève
A7: Restauration | B7: Stand repas | E7: Gants et charlotte ; suivre les consignes d'hygiène
A8: Parking | B8: Parking nord | E8: Gilet obligatoire ; laisser libre la voie des secours
A9: Accueil des artistes | B9: Loges | E9: Accueillir, guider jusqu'à la scène, gérer les repas
A10: Propreté et tri | B10: Tout le site | E10: Vider les poubelles, réapprovisionner les toilettes
A11: Montage | B11: Tout le site | E11: Chaussures fermées ; suivre le chef d'équipe
A12: Démontage | B12: Tout le site | E12: Chaussures fermées ; ne rien jeter sans demander
A24: Modèle gratuit proposé par Outilyx, qui gère les bénévoles, leurs postes et leurs créneaux sur le plan du site : www.outilyx.com
